BEGIN:VCALENDAR
VERSION:2.0
PRODID:-//Tanzen im TSV Forstenried - ECPv6.15.20//NONSGML v1.0//EN
CALSCALE:GREGORIAN
METHOD:PUBLISH
X-ORIGINAL-URL:https://tanz.tsv-forstenried.de
X-WR-CALDESC:Veranstaltungen für Tanzen im TSV Forstenried
REFRESH-INTERVAL;VALUE=DURATION:PT1H
X-Robots-Tag:noindex
X-PUBLISHED-TTL:PT1H
BEGIN:VTIMEZONE
TZID:Europe/Berlin
BEGIN:DAYLIGHT
TZOFFSETFROM:+0100
TZOFFSETTO:+0200
TZNAME:CEST
DTSTART:20260329T010000
END:DAYLIGHT
BEGIN:STANDARD
TZOFFSETFROM:+0200
TZOFFSETTO:+0100
TZNAME:CET
DTSTART:20261025T010000
END:STANDARD
BEGIN:DAYLIGHT
TZOFFSETFROM:+0100
TZOFFSETTO:+0200
TZNAME:CEST
DTSTART:20270328T010000
END:DAYLIGHT
BEGIN:STANDARD
TZOFFSETFROM:+0200
TZOFFSETTO:+0100
TZNAME:CET
DTSTART:20271031T010000
END:STANDARD
BEGIN:DAYLIGHT
TZOFFSETFROM:+0100
TZOFFSETTO:+0200
TZNAME:CEST
DTSTART:20280326T010000
END:DAYLIGHT
BEGIN:STANDARD
TZOFFSETFROM:+0200
TZOFFSETTO:+0100
TZNAME:CET
DTSTART:20281029T010000
END:STANDARD
END:VTIMEZONE
BEGIN:VEVENT
DTSTART;TZID=Europe/Berlin:20270105T190000
DTEND;TZID=Europe/Berlin:20270105T203000
DTSTAMP:20260423T005405
CREATED:20260222T114330Z
LAST-MODIFIED:20260227T130806Z
UID:10003714-1799175600-1799181000@tanz.tsv-forstenried.de
SUMMARY:Training Gruppe 1\, Dienstag
DESCRIPTION:Lehrinhalt der Gruppe 1 sind alle Standard- und Lateintänze. Das Niveau ist auch für Einsteiger geeignet.\nIm 14-tägigen Wechsel wird diese Gruppe von Simona für Latein und von Andreas und Birgit für Standard geleitet.
URL:https://tanz.tsv-forstenried.de/event/training-gruppe-1-dienstag-5/2027-01-05/
LOCATION:Walliser Schule\, Walliser Str. 5\, München Fürstenried-West\, Bayern\, 81475\, Deutschland
ATTACH;FMTTYPE=image/jpeg:https://tanz.tsv-forstenried.de/wp-content/uploads/2025/11/Halle-2-24-06-1600.jpg
ORGANIZER;CN="TSV-Tanzsport":MAILTO:ts-al@tsv-forstenried.de
GEO:48.092537;11.482658
X-APPLE-STRUCTURED-LOCATION;VALUE=URI;X-ADDRESS=Walliser Schule Walliser Str. 5 München Fürstenried-West Bayern 81475 Deutschland;X-APPLE-RADIUS=500;X-TITLE=Walliser Str. 5:geo:11.482658,48.092537
END:VEVENT
BEGIN:VEVENT
DTSTART;TZID=Europe/Berlin:20270112T190000
DTEND;TZID=Europe/Berlin:20270112T203000
DTSTAMP:20260423T005405
CREATED:20260222T114330Z
LAST-MODIFIED:20260227T130806Z
UID:10003715-1799780400-1799785800@tanz.tsv-forstenried.de
SUMMARY:Training Gruppe 1\, Dienstag
DESCRIPTION:Lehrinhalt der Gruppe 1 sind alle Standard- und Lateintänze. Das Niveau ist auch für Einsteiger geeignet.\nIm 14-tägigen Wechsel wird diese Gruppe von Simona für Latein und von Andreas und Birgit für Standard geleitet.
URL:https://tanz.tsv-forstenried.de/event/training-gruppe-1-dienstag-5/2027-01-12/
LOCATION:Walliser Schule\, Walliser Str. 5\, München Fürstenried-West\, Bayern\, 81475\, Deutschland
ATTACH;FMTTYPE=image/jpeg:https://tanz.tsv-forstenried.de/wp-content/uploads/2025/11/Halle-2-24-06-1600.jpg
ORGANIZER;CN="TSV-Tanzsport":MAILTO:ts-al@tsv-forstenried.de
GEO:48.092537;11.482658
X-APPLE-STRUCTURED-LOCATION;VALUE=URI;X-ADDRESS=Walliser Schule Walliser Str. 5 München Fürstenried-West Bayern 81475 Deutschland;X-APPLE-RADIUS=500;X-TITLE=Walliser Str. 5:geo:11.482658,48.092537
END:VEVENT
BEGIN:VEVENT
DTSTART;TZID=Europe/Berlin:20270119T190000
DTEND;TZID=Europe/Berlin:20270119T203000
DTSTAMP:20260423T005405
CREATED:20260222T114330Z
LAST-MODIFIED:20260227T130806Z
UID:10003716-1800385200-1800390600@tanz.tsv-forstenried.de
SUMMARY:Training Gruppe 1\, Dienstag
DESCRIPTION:Lehrinhalt der Gruppe 1 sind alle Standard- und Lateintänze. Das Niveau ist auch für Einsteiger geeignet.\nIm 14-tägigen Wechsel wird diese Gruppe von Simona für Latein und von Andreas und Birgit für Standard geleitet.
URL:https://tanz.tsv-forstenried.de/event/training-gruppe-1-dienstag-5/2027-01-19/
LOCATION:Walliser Schule\, Walliser Str. 5\, München Fürstenried-West\, Bayern\, 81475\, Deutschland
ATTACH;FMTTYPE=image/jpeg:https://tanz.tsv-forstenried.de/wp-content/uploads/2025/11/Halle-2-24-06-1600.jpg
ORGANIZER;CN="TSV-Tanzsport":MAILTO:ts-al@tsv-forstenried.de
GEO:48.092537;11.482658
X-APPLE-STRUCTURED-LOCATION;VALUE=URI;X-ADDRESS=Walliser Schule Walliser Str. 5 München Fürstenried-West Bayern 81475 Deutschland;X-APPLE-RADIUS=500;X-TITLE=Walliser Str. 5:geo:11.482658,48.092537
END:VEVENT
BEGIN:VEVENT
DTSTART;TZID=Europe/Berlin:20270126T190000
DTEND;TZID=Europe/Berlin:20270126T203000
DTSTAMP:20260423T005405
CREATED:20260222T114330Z
LAST-MODIFIED:20260227T130806Z
UID:10003717-1800990000-1800995400@tanz.tsv-forstenried.de
SUMMARY:Training Gruppe 1\, Dienstag
DESCRIPTION:Lehrinhalt der Gruppe 1 sind alle Standard- und Lateintänze. Das Niveau ist auch für Einsteiger geeignet.\nIm 14-tägigen Wechsel wird diese Gruppe von Simona für Latein und von Andreas und Birgit für Standard geleitet.
URL:https://tanz.tsv-forstenried.de/event/training-gruppe-1-dienstag-5/2027-01-26/
LOCATION:Walliser Schule\, Walliser Str. 5\, München Fürstenried-West\, Bayern\, 81475\, Deutschland
ATTACH;FMTTYPE=image/jpeg:https://tanz.tsv-forstenried.de/wp-content/uploads/2025/11/Halle-2-24-06-1600.jpg
ORGANIZER;CN="TSV-Tanzsport":MAILTO:ts-al@tsv-forstenried.de
GEO:48.092537;11.482658
X-APPLE-STRUCTURED-LOCATION;VALUE=URI;X-ADDRESS=Walliser Schule Walliser Str. 5 München Fürstenried-West Bayern 81475 Deutschland;X-APPLE-RADIUS=500;X-TITLE=Walliser Str. 5:geo:11.482658,48.092537
END:VEVENT
END:VCALENDAR