BEGIN:VCALENDAR
VERSION:2.0
PRODID:-//Tanzen im TSV Forstenried - ECPv6.15.20//NONSGML v1.0//EN
CALSCALE:GREGORIAN
METHOD:PUBLISH
X-WR-CALNAME:Tanzen im TSV Forstenried
X-ORIGINAL-URL:https://tanz.tsv-forstenried.de
X-WR-CALDESC:Veranstaltungen für Tanzen im TSV Forstenried
REFRESH-INTERVAL;VALUE=DURATION:PT1H
X-Robots-Tag:noindex
X-PUBLISHED-TTL:PT1H
BEGIN:VTIMEZONE
TZID:Europe/Berlin
BEGIN:DAYLIGHT
TZOFFSETFROM:+0100
TZOFFSETTO:+0200
TZNAME:CEST
DTSTART:20260329T010000
END:DAYLIGHT
BEGIN:STANDARD
TZOFFSETFROM:+0200
TZOFFSETTO:+0100
TZNAME:CET
DTSTART:20261025T010000
END:STANDARD
BEGIN:DAYLIGHT
TZOFFSETFROM:+0100
TZOFFSETTO:+0200
TZNAME:CEST
DTSTART:20270328T010000
END:DAYLIGHT
BEGIN:STANDARD
TZOFFSETFROM:+0200
TZOFFSETTO:+0100
TZNAME:CET
DTSTART:20271031T010000
END:STANDARD
BEGIN:DAYLIGHT
TZOFFSETFROM:+0100
TZOFFSETTO:+0200
TZNAME:CEST
DTSTART:20280326T010000
END:DAYLIGHT
BEGIN:STANDARD
TZOFFSETFROM:+0200
TZOFFSETTO:+0100
TZNAME:CET
DTSTART:20281029T010000
END:STANDARD
END:VTIMEZONE
BEGIN:VEVENT
DTSTART;TZID=Europe/Berlin:20270302T190000
DTEND;TZID=Europe/Berlin:20270302T203000
DTSTAMP:20260424T171347
CREATED:20260222T114330Z
LAST-MODIFIED:20260227T130806Z
UID:10003722-1804014000-1804019400@tanz.tsv-forstenried.de
SUMMARY:Training Gruppe 1\, Dienstag
DESCRIPTION:Lehrinhalt der Gruppe 1 sind alle Standard- und Lateintänze. Das Niveau ist auch für Einsteiger geeignet.\nIm 14-tägigen Wechsel wird diese Gruppe von Simona für Latein und von Andreas und Birgit für Standard geleitet.
URL:https://tanz.tsv-forstenried.de/event/training-gruppe-1-dienstag-5/2027-03-02/
LOCATION:Walliser Schule\, Walliser Str. 5\, München Fürstenried-West\, Bayern\, 81475\, Deutschland
ATTACH;FMTTYPE=image/jpeg:https://tanz.tsv-forstenried.de/wp-content/uploads/2025/11/Halle-2-24-06-1600.jpg
ORGANIZER;CN="TSV-Tanzsport":MAILTO:ts-al@tsv-forstenried.de
GEO:48.092537;11.482658
X-APPLE-STRUCTURED-LOCATION;VALUE=URI;X-ADDRESS=Walliser Schule Walliser Str. 5 München Fürstenried-West Bayern 81475 Deutschland;X-APPLE-RADIUS=500;X-TITLE=Walliser Str. 5:geo:11.482658,48.092537
END:VEVENT
BEGIN:VEVENT
DTSTART;TZID=Europe/Berlin:20270309T190000
DTEND;TZID=Europe/Berlin:20270309T203000
DTSTAMP:20260424T171347
CREATED:20260222T114330Z
LAST-MODIFIED:20260227T130806Z
UID:10003723-1804618800-1804624200@tanz.tsv-forstenried.de
SUMMARY:Training Gruppe 1\, Dienstag
DESCRIPTION:Lehrinhalt der Gruppe 1 sind alle Standard- und Lateintänze. Das Niveau ist auch für Einsteiger geeignet.\nIm 14-tägigen Wechsel wird diese Gruppe von Simona für Latein und von Andreas und Birgit für Standard geleitet.
URL:https://tanz.tsv-forstenried.de/event/training-gruppe-1-dienstag-5/2027-03-09/
LOCATION:Walliser Schule\, Walliser Str. 5\, München Fürstenried-West\, Bayern\, 81475\, Deutschland
ATTACH;FMTTYPE=image/jpeg:https://tanz.tsv-forstenried.de/wp-content/uploads/2025/11/Halle-2-24-06-1600.jpg
ORGANIZER;CN="TSV-Tanzsport":MAILTO:ts-al@tsv-forstenried.de
GEO:48.092537;11.482658
X-APPLE-STRUCTURED-LOCATION;VALUE=URI;X-ADDRESS=Walliser Schule Walliser Str. 5 München Fürstenried-West Bayern 81475 Deutschland;X-APPLE-RADIUS=500;X-TITLE=Walliser Str. 5:geo:11.482658,48.092537
END:VEVENT
BEGIN:VEVENT
DTSTART;TZID=Europe/Berlin:20270316T190000
DTEND;TZID=Europe/Berlin:20270316T203000
DTSTAMP:20260424T171347
CREATED:20260222T114330Z
LAST-MODIFIED:20260227T130806Z
UID:10003724-1805223600-1805229000@tanz.tsv-forstenried.de
SUMMARY:Training Gruppe 1\, Dienstag
DESCRIPTION:Lehrinhalt der Gruppe 1 sind alle Standard- und Lateintänze. Das Niveau ist auch für Einsteiger geeignet.\nIm 14-tägigen Wechsel wird diese Gruppe von Simona für Latein und von Andreas und Birgit für Standard geleitet.
URL:https://tanz.tsv-forstenried.de/event/training-gruppe-1-dienstag-5/2027-03-16/
LOCATION:Walliser Schule\, Walliser Str. 5\, München Fürstenried-West\, Bayern\, 81475\, Deutschland
ATTACH;FMTTYPE=image/jpeg:https://tanz.tsv-forstenried.de/wp-content/uploads/2025/11/Halle-2-24-06-1600.jpg
ORGANIZER;CN="TSV-Tanzsport":MAILTO:ts-al@tsv-forstenried.de
GEO:48.092537;11.482658
X-APPLE-STRUCTURED-LOCATION;VALUE=URI;X-ADDRESS=Walliser Schule Walliser Str. 5 München Fürstenried-West Bayern 81475 Deutschland;X-APPLE-RADIUS=500;X-TITLE=Walliser Str. 5:geo:11.482658,48.092537
END:VEVENT
BEGIN:VEVENT
DTSTART;TZID=Europe/Berlin:20270323T190000
DTEND;TZID=Europe/Berlin:20270323T203000
DTSTAMP:20260424T171347
CREATED:20260222T114330Z
LAST-MODIFIED:20260227T130806Z
UID:10003725-1805828400-1805833800@tanz.tsv-forstenried.de
SUMMARY:Training Gruppe 1\, Dienstag
DESCRIPTION:Lehrinhalt der Gruppe 1 sind alle Standard- und Lateintänze. Das Niveau ist auch für Einsteiger geeignet.\nIm 14-tägigen Wechsel wird diese Gruppe von Simona für Latein und von Andreas und Birgit für Standard geleitet.
URL:https://tanz.tsv-forstenried.de/event/training-gruppe-1-dienstag-5/2027-03-23/
LOCATION:Walliser Schule\, Walliser Str. 5\, München Fürstenried-West\, Bayern\, 81475\, Deutschland
ATTACH;FMTTYPE=image/jpeg:https://tanz.tsv-forstenried.de/wp-content/uploads/2025/11/Halle-2-24-06-1600.jpg
ORGANIZER;CN="TSV-Tanzsport":MAILTO:ts-al@tsv-forstenried.de
GEO:48.092537;11.482658
X-APPLE-STRUCTURED-LOCATION;VALUE=URI;X-ADDRESS=Walliser Schule Walliser Str. 5 München Fürstenried-West Bayern 81475 Deutschland;X-APPLE-RADIUS=500;X-TITLE=Walliser Str. 5:geo:11.482658,48.092537
END:VEVENT
BEGIN:VEVENT
DTSTART;TZID=Europe/Berlin:20270330T190000
DTEND;TZID=Europe/Berlin:20270330T203000
DTSTAMP:20260424T171347
CREATED:20260222T114330Z
LAST-MODIFIED:20260227T130806Z
UID:10003726-1806433200-1806438600@tanz.tsv-forstenried.de
SUMMARY:Training Gruppe 1\, Dienstag
DESCRIPTION:Lehrinhalt der Gruppe 1 sind alle Standard- und Lateintänze. Das Niveau ist auch für Einsteiger geeignet.\nIm 14-tägigen Wechsel wird diese Gruppe von Simona für Latein und von Andreas und Birgit für Standard geleitet.
URL:https://tanz.tsv-forstenried.de/event/training-gruppe-1-dienstag-5/2027-03-30/
LOCATION:Walliser Schule\, Walliser Str. 5\, München Fürstenried-West\, Bayern\, 81475\, Deutschland
ATTACH;FMTTYPE=image/jpeg:https://tanz.tsv-forstenried.de/wp-content/uploads/2025/11/Halle-2-24-06-1600.jpg
ORGANIZER;CN="TSV-Tanzsport":MAILTO:ts-al@tsv-forstenried.de
GEO:48.092537;11.482658
X-APPLE-STRUCTURED-LOCATION;VALUE=URI;X-ADDRESS=Walliser Schule Walliser Str. 5 München Fürstenried-West Bayern 81475 Deutschland;X-APPLE-RADIUS=500;X-TITLE=Walliser Str. 5:geo:11.482658,48.092537
END:VEVENT
END:VCALENDAR